BEGIN:VCALENDAR
VERSION:2.0
PRODID:-//wp-events-plugin.com//7.0.3//EN
BEGIN:VEVENT
UID:2305@ffky.fr
DTSTART:20260523T030000Z
DTEND:20260523T053000Z
DTSTAMP:20260417T110643Z
URL:https://ffky.fr/evenements/sadhana-en-ligne-en-direct-gratuit/
SUMMARY:Sadhana en ligne en direct (GRATUIT)
DESCRIPTION:Découvrez la pratique traditionnelle du Yoga Kundalini\, à tr
 avers la Sadhana.\nCommencez votre journée avant l'aube\,\npar une profon
 de connexion avec vous-même.\nLa lecture du Japji Sahib (texte sacré) es
 t suivie par un kriya (série d'exercices)\, pour se terminer par les méd
 itations chantées spécifiques à la Sadhana.\n\nPour plus d'informations
  et pour vous inscrire gratuitement\, CLIQUEZ ICI
ATTACH;FMTTYPE=image/jpeg:https://ffky.fr/wp-content/uploads/2026/04/Proch
 aineSadhana.jpg
CATEGORIES:Kundalini Yoga
LOCATION:https://yoga-kundalini-cours-en-ligne.fr/sadhana-en-direct/sadhana
 -direct-inscription-new-ete
END:VEVENT
END:VCALENDAR