BEGIN:VCALENDAR
VERSION:2.0
PRODID:-//wp-events-plugin.com//7.0.3//EN
BEGIN:VEVENT
UID:2300@ffky.fr
DTSTART:20261023T220000Z
DTEND:20261030T220000Z
DTSTAMP:20260408T142556Z
URL:https://ffky.fr/evenements/devenez-professeur-de-kundalini-yoga-3/
SUMMARY:Devenez professeur de Kundalini Yoga
DESCRIPTION:Cette Formation est un programme de 220 heures d'expérience in
 tense en présentiel\, de transformation profonde et une certification pro
 fessionnelle en Kundalini Yoga tel qu'enseigné par Yogi Bhajan. Elle offr
 e des cours interactifs qui allient théorie\, pratique et compétences de
  base. Les diplômés obtiennent le titre KRI d'Instructeur Certifié de K
 undalini Yoga reconnu dans le monde entier.\n\n 	En résidentiel à La Fer
 té St Aubin\n 	du 24 au 31 Octobre 2026\n 	\n 	Pour réserver :\n 	Demand
 ez votre DOSSIER D'INSCRIPTION auprès d'Anterjeet Singh\n 	06 03 37 97 94
 \n 	anterjeetsingh45@gmail.com\n 	Envoyez votre dossier complet avec acomp
 te de 350€ par virement à l'ordre de Ouvre Toi\n 	l'acompte est non ces
 sible et non remboursable sauf annulation de notre part\n
ATTACH;FMTTYPE=image/jpeg:https://ffky.fr/wp-content/uploads/2026/04/2022-
 Stage-Destinee-Ganesha-1.jpg
CATEGORIES:Kundalini Yoga,Formation niveau 1
LOCATION:Villa Victoria\, Route d'Orléans\, La Ferté St Aubin\, 45240\, F
 rance
X-APPLE-STRUCTURED-LOCATION;VALUE=URI;X-ADDRESS=Route d'Orléans\, La Fert
 é St Aubin\, 45240\, France;X-APPLE-RADIUS=100;X-TITLE=Villa Victoria:geo
 :0,0
END:VEVENT
END:VCALENDAR